BEGIN:VCALENDAR
VERSION:2.0
PRODID:TU Chemnitz
METHOD:PUBLISH
X-WR-CALNAME:Veranstaltungen der TU Chemnitz
X-WR-TIMEZONE:Europe/Berlin
BEGIN:VEVENT
CLASS:PUBLIC
DTSTART;TZID="Europe/Berlin":20071126T140000
DTEND;TZID="Europe/Berlin":20071126T150000
LOCATION:Reichenhainer Str. 31-33
SUMMARY:Pilates (Institut für Sportwissenschaft)
DESCRIPTION:Mit Hilfe von kontrollierten\, flüssigen Bewegungen und bewusster Atmung ist Pilates ein ganzheitliches und sanftes Training. Pilates kräftigt die Muskulatur\, fördert die Beweglichkeit und verbessert die Körperhaltung.\nJaqueline Böhr
ORGANIZER:MAILTO:stephanie.holzapfel@phil.tu-chemnitz.de
UID:9586@www.tu-chemnitz.de
CREATED:20071123T131600Z
DTSTAMP:20210802T194627Z
END:VEVENT
END:VCALENDAR
