BEGIN:VCALENDAR
VERSION:2.0
PRODID:TU Chemnitz
METHOD:PUBLISH
X-WR-CALNAME:Veranstaltungen der TU Chemnitz
X-WR-TIMEZONE:Europe/Berlin
BEGIN:VEVENT
CLASS:PUBLIC
DTSTART;TZID="Europe/Berlin":20071210T180000
DTEND;TZID="Europe/Berlin":20071210T180000
LOCATION:Kuklturkaufhaus DAStietz\, Lounge\, Moritzstraße 20\, 09111 Chemnitz
SUMMARY:Wissenschaftscafé im Kulturkaufhaus DAStietz (TU Chemnitz)
DESCRIPTION:Wissenschaftscafé im Kulturkaufhaus DAStietz mit Prof. Dr. Holze zum Thema "Können Zähne rosten?". Eintritt frei.\nProf. Dr. Rudolf Holze\nHenning Lindhorst\, Tel. 0371-531-11111\, henning.lindhorst@verwaltung.tu-chemnitz.de
ORGANIZER:MAILTO:henning.lindhorst@verwaltung.tu-chemnitz.de
UID:9579@www.tu-chemnitz.de
CREATED:20071123T103200Z
DTSTAMP:20210802T194538Z
END:VEVENT
END:VCALENDAR
