BEGIN:VCALENDAR
VERSION:2.0
PRODID:TU Chemnitz
METHOD:PUBLISH
X-WR-CALNAME:Veranstaltungen der TU Chemnitz
X-WR-TIMEZONE:Europe/Berlin
BEGIN:VEVENT
CLASS:PUBLIC
DTSTART;TZID="Europe/Berlin":20071121T190000
DTEND;TZID="Europe/Berlin":20071121T235900
LOCATION:Reichenhainer Str. 55\, Chemnitz (Mensa)
SUMMARY:Fussball Länderspiel
DESCRIPTION:Deutschland gegen Wales...letztes EM Qualifikationsspiel\nim Anschluß alle anderen Spiele und Tore...
ORGANIZER:MAILTO:piek@hrz-tu-chemnitz
UID:9557@www.tu-chemnitz.de
CREATED:20071117T134000Z
DTSTAMP:20210802T194638Z
END:VEVENT
END:VCALENDAR
