BEGIN:VCALENDAR
VERSION:2.0
PRODID:TU Chemnitz
METHOD:PUBLISH
X-WR-CALNAME:Veranstaltungen der TU Chemnitz
X-WR-TIMEZONE:Europe/Berlin
BEGIN:VEVENT
CLASS:PUBLIC
DTSTART;TZID="Europe/Berlin":20071119T180000
DTEND;TZID="Europe/Berlin":20071119T193000
LOCATION:ZFG - Reichenhainer Str. 31- 33
SUMMARY:Muskeltraining/Kraftsport (Institut für Sportwissenschaft)
DESCRIPTION:Vielseitiges Muskeltraining unter Berücksichtigung neuester Erkenntnisse. Zusätzlich werden die methodischen Grundlagen des Herz-Kreislauf-Trainings erläutert. Der Kurs läuft über 6 Wochen danach ist selbständiges Training möglich.\nMarc Stoll
ORGANIZER:MAILTO:stephanie.holzapfel@phil.tu-chemnitz.de
UID:9538@www.tu-chemnitz.de
CREATED:20071116T125000Z
DTSTAMP:20210802T194647Z
END:VEVENT
END:VCALENDAR
