BEGIN:VCALENDAR
VERSION:2.0
PRODID:TU Chemnitz
METHOD:PUBLISH
X-WR-CALNAME:Veranstaltungen der TU Chemnitz
X-WR-TIMEZONE:Europe/Berlin
BEGIN:VEVENT
CLASS:PUBLIC
DTSTART;TZID="Europe/Berlin":20080122T134500
DTEND;TZID="Europe/Berlin":20080124T180000
LOCATION:Str. der Nationen 62\, Chemnitz (Böttcher-Bau)
SUMMARY:"LaTeX für Fortgeschrittene" (Universitätsrechenzentrum)
DESCRIPTION:Aufbauend auf den Kurs "Einführung in LaTeX" lernen Sie\, anspruchsvolle Dokumente selbständig zu erstellen und zu bearbeiten. (3 Tage jeweils von 13:45-18:00 Uhr)\nDr. Wolfgang Riedel
ORGANIZER:MAILTO:rosita.pudlat@hrz.tu-chemnitz.de
UID:9534@www.tu-chemnitz.de
CREATED:20071116T115000Z
DTSTAMP:20210802T194443Z
END:VEVENT
END:VCALENDAR
