BEGIN:VCALENDAR
VERSION:2.0
PRODID:TU Chemnitz
METHOD:PUBLISH
X-WR-CALNAME:Veranstaltungen der TU Chemnitz
X-WR-TIMEZONE:Europe/Berlin
BEGIN:VEVENT
CLASS:PUBLIC
DTSTART;TZID="Europe/Berlin":20071123T180000
DTEND;TZID="Europe/Berlin":20071123T193000
LOCATION:Kulturkaufhaus DAStietz Chemnitz\, Moritzstr. 20\, Veranstaltungssaal 3. Etage
SUMMARY:Eröffnung Ausstellung "Gewählt für Chemnitz - Zur Geschichte der Chemnitzer Stadtverordneten" (Stadtarchiv im DAStietz)
DESCRIPTION:- Grußwort OB Barbara Ludwig\n- Festvortrag Prof. Dr. Günther Grünthal\n- Einführung in die Ausstellung Bürgermeister Berthold Brehm\nEs musizieren Schüler der Städtischen Musikschule Chemnitz.\nProf. Dr. Günther Grünthal\, Ettlingen\nHenning Lindhorst\, Tel. 531-11111\, henning.lindhorst@verwaltung.tu-chemnitz.de
ORGANIZER:MAILTO:henning.lindhorst@verwaltung.tu-chemnitz.de
UID:9526@www.tu-chemnitz.de
CREATED:20071115T092800Z
DTSTAMP:20210802T194642Z
END:VEVENT
END:VCALENDAR
