BEGIN:VCALENDAR
VERSION:2.0
PRODID:TU Chemnitz
METHOD:PUBLISH
X-WR-CALNAME:Veranstaltungen der TU Chemnitz
X-WR-TIMEZONE:Europe/Berlin
BEGIN:VEVENT
CLASS:PUBLIC
DTSTART;TZID="Europe/Berlin":20071126T191500
DTEND;TZID="Europe/Berlin":20071126T204500
LOCATION:Reichenhainer Str. 90\, Chemnitz (Zentr. Hörsaal- und Seminargebäude)
SUMMARY:Verständlich Schreiben: Einsatzgebiete und Aufgabenspektrum (Philosophische Fakultät)
DESCRIPTION:Dr. Michael Meng (Technischer Redakteur bei Intershop Communications AG Jena)
ORGANIZER:MAILTO:ruth.geier@phil.tu-chemnitz.de
UID:9524@www.tu-chemnitz.de
CREATED:20071114T145700Z
DTSTAMP:20210802T194632Z
END:VEVENT
END:VCALENDAR
