BEGIN:VCALENDAR
VERSION:2.0
PRODID:TU Chemnitz
METHOD:PUBLISH
X-WR-CALNAME:Veranstaltungen der TU Chemnitz
X-WR-TIMEZONE:Europe/Berlin
BEGIN:VEVENT
CLASS:PUBLIC
DTSTART;TZID="Europe/Berlin":20000411T193000
DTEND;TZID="Europe/Berlin":20000411T220000
LOCATION:Uni-Teil 3: Reichenhainer Str. 70\, Chemnitz (Zentr. Hörsaal- und Seminargebäude)
SUMMARY:CIK2000 - Sachsen: Chemnitzer Industrie-Kontakte  (VDI-Arbeitskreis Studenten und Jungingenieure\, Fakultät für Maschinenbau und Verfahrenstechnik)
DESCRIPTION:Vortrag mit Podiumsdiskussion zum Thema:\n"Wohin geht die technische Entwicklung? - Folgen für die Ausbildung der Ingenieure."\n\nProf. Dr.-Ing. Hubertus Christ\, VDI-Präsident\nTelefon: 0371 / 531-3290
ORGANIZER:MAILTO:gso@hrz.tu-chemnitz.de
UID:950@www.tu-chemnitz.de
CREATED:20000209T142600Z
DTSTAMP:20210802T203114Z
END:VEVENT
END:VCALENDAR
