BEGIN:VCALENDAR
VERSION:2.0
PRODID:TU Chemnitz
METHOD:PUBLISH
X-WR-CALNAME:Veranstaltungen der TU Chemnitz
X-WR-TIMEZONE:Europe/Berlin
BEGIN:VEVENT
CLASS:PUBLIC
DTSTART;TZID="Europe/Berlin":20071116T170000
DTEND;TZID="Europe/Berlin":20071116T200000
LOCATION:Renaissance Chemnitz Hotel\, Salzstraße 56\, 09113 Chemnitz
SUMMARY:Chemnitz- Stadt des Maschinenbaus und ihre Chancen in Russland (dialog e. V.)
DESCRIPTION:Chemnitz blickt im Bereich des Maschinenbaus auf eine lange Erfolgsgeschichte zurück.Vor diesem Hintergrund werden namhafte Referenten interessante Rück- \,Ein- und Ausblicke erlauben.\nhttp://www.dialog-ev.de/de/veranstalt/2007-maschinenbau.html
ORGANIZER:MAILTO:Lenchenwagner@web.de
UID:9498@www.tu-chemnitz.de
CREATED:20071108T193700Z
DTSTAMP:20210802T194648Z
END:VEVENT
END:VCALENDAR
