BEGIN:VCALENDAR
VERSION:2.0
PRODID:TU Chemnitz
METHOD:PUBLISH
X-WR-CALNAME:Veranstaltungen der TU Chemnitz
X-WR-TIMEZONE:Europe/Berlin
BEGIN:VEVENT
CLASS:PUBLIC
DTSTART;TZID="Europe/Berlin":20071114T180000
DTEND;TZID="Europe/Berlin":20071114T200000
LOCATION:Reichenhainer Str. 90\, Chemnitz (Zentr. Hörsaal- und Seminargebäude)
SUMMARY:Der gläserne Autofahrer - Stand der Informationstechnik im Straßenverkehr (VDE Chemnitz)
DESCRIPTION:Hans-Joachim Schade\, Siemens\nthomas.schuhmann@etit.tu-chemnitz.de
ORGANIZER:MAILTO:thomas.schuhmann@etit.tu-chemnitz.de
UID:9483@www.tu-chemnitz.de
CREATED:20071108T093300Z
DTSTAMP:20210802T194632Z
END:VEVENT
END:VCALENDAR
