BEGIN:VCALENDAR
VERSION:2.0
PRODID:TU Chemnitz
METHOD:PUBLISH
X-WR-CALNAME:Veranstaltungen der TU Chemnitz
X-WR-TIMEZONE:Europe/Berlin
BEGIN:VEVENT
CLASS:PUBLIC
DTSTART;TZID="Europe/Berlin":20071113T190000
DTEND;TZID="Europe/Berlin":20071113T235900
LOCATION:Thüringer Weg 3
SUMMARY:Der Club der Kulturen wird 5!
DESCRIPTION:Das CdK-Team möchte mit Euch Geburtstag feiern.\nEin wechselndes interaktives Programm\, Tanzmusik und Geburtstagskuchen sorgen für Unterhaltung. Wer uns gern etwas schenken möchte: Flaggen (min. DINA5) für die Clubgestaltung. Wir freuen uns auf Euch!\nClub der Kulturen
ORGANIZER:MAILTO:stdan@s2003.tu-chemnitz.de
UID:9475@www.tu-chemnitz.de
CREATED:20071105T211800Z
DTSTAMP:20210802T194630Z
END:VEVENT
END:VCALENDAR
