BEGIN:VCALENDAR
VERSION:2.0
PRODID:TU Chemnitz
METHOD:PUBLISH
X-WR-CALNAME:Veranstaltungen der TU Chemnitz
X-WR-TIMEZONE:Europe/Berlin
BEGIN:VEVENT
CLASS:PUBLIC
DTSTART;TZID="Europe/Berlin":20071130T153000
DTEND;TZID="Europe/Berlin":20071130T153000
LOCATION:Erfenschlager Str. 73\, Chemnitz
SUMMARY:Promotion (Fakultät für Maschinenbau)
DESCRIPTION:Methodik zur prozessorientierten Restrukturierung von Arbeitssystemen\nDipl.-Wirtsch.-Ing. Nadja Schmiedl
ORGANIZER:MAILTO:kerstin.hensel@mb.tu-chemnitz.de
UID:9474@www.tu-chemnitz.de
CREATED:20071105T153600Z
DTSTAMP:20210802T194626Z
END:VEVENT
END:VCALENDAR
