BEGIN:VCALENDAR
VERSION:2.0
PRODID:TU Chemnitz
METHOD:PUBLISH
X-WR-CALNAME:Veranstaltungen der TU Chemnitz
X-WR-TIMEZONE:Europe/Berlin
BEGIN:VEVENT
CLASS:PUBLIC
DTSTART;TZID="Europe/Berlin":20071107T210000
DTEND;TZID="Europe/Berlin":20071108T030000
LOCATION:RH 37 - PEB
SUMMARY:[PEB] Bed Bull Party (PEB-Studentenkeller)
DESCRIPTION:RedBull für Alle\nmit sämtlichen Mischungen mit dem lecker Gummibärchengetränk\n\nEintritt frei!\npeb-club@tu-chemnitz.de
ORGANIZER:MAILTO:fiste@hrz.tu-chemnitz.de
UID:9471@www.tu-chemnitz.de
CREATED:20071105T130600Z
DTSTAMP:20210802T194641Z
END:VEVENT
END:VCALENDAR
