BEGIN:VCALENDAR
VERSION:2.0
PRODID:TU Chemnitz
METHOD:PUBLISH
X-WR-CALNAME:Veranstaltungen der TU Chemnitz
X-WR-TIMEZONE:Europe/Berlin
BEGIN:VEVENT
CLASS:PUBLIC
DTSTART;TZID="Europe/Berlin":20071112T161500
DTEND;TZID="Europe/Berlin":20071112T171500
LOCATION:ZFG – Reichenhainer Str. 31-33
SUMMARY:Orthopädische Rehagruppe/Mitarbeiter (Institut für Sportwissenschaft)
DESCRIPTION:Kurs für Bedienstete\nMuskelaufbautraining bei orthopädischen Erkrankungen und Verletzungen unter sporttherapeutischer Anleitung.\nStephanie Holzapfel\nstephanie.holzapfel@phil.tu-chemnitz.de
ORGANIZER:MAILTO:stephanie.holzapfel@phil.tu-chemnitz.de
UID:9444@www.tu-chemnitz.de
CREATED:20071102T154500Z
DTSTAMP:20210802T194644Z
END:VEVENT
END:VCALENDAR
