BEGIN:VCALENDAR
VERSION:2.0
PRODID:TU Chemnitz
METHOD:PUBLISH
X-WR-CALNAME:Veranstaltungen der TU Chemnitz
X-WR-TIMEZONE:Europe/Berlin
BEGIN:VEVENT
CLASS:PUBLIC
DTSTART;TZID="Europe/Berlin":20071109T100000
DTEND;TZID="Europe/Berlin":20071109T160000
LOCATION:Wilhelm-Raabe-Str. 43\, Chemnitz
SUMMARY:Landeskonferenz der Frauen- und Gleichstellungsbeauftragten an Universitäten und Hochschulen des Freistaates Sachsen
DESCRIPTION:karla.kebsch@phil.tu-chemnitz.de
ORGANIZER:MAILTO:karla.kebsch@hil.tu-chemnitz.de
UID:9424@www.tu-chemnitz.de
CREATED:20071101T115000Z
DTSTAMP:20210802T194634Z
END:VEVENT
END:VCALENDAR
