BEGIN:VCALENDAR
VERSION:2.0
PRODID:TU Chemnitz
METHOD:PUBLISH
X-WR-CALNAME:Veranstaltungen der TU Chemnitz
X-WR-TIMEZONE:Europe/Berlin
BEGIN:VEVENT
CLASS:PUBLIC
DTSTART;TZID="Europe/Berlin":20071116T160000
DTEND;TZID="Europe/Berlin":20071118T120000
LOCATION:Reichenhainer Str. 90\, Chemnitz (Zentr. Hörsaal- und Seminargebäude)
SUMMARY:4. WiWi-Alumni-Treffen ... für StudentInnen\, AbsolventInnen\, MitarbeiterInnen und Ehemalige der Fakultät für Wirtschaftswissenschaften (Fakultät für Wirtschaftswissenschaften\,  Dekanat)
DESCRIPTION:\n- Persönl. Kontakte in den WORKSHOPS der einzelnen PROFESSUREN\n- Workshop „ZEITMANAGEMENT“\n- EXPERTENVORTRÄGE: „Banken im Umbruch“ & „Standortanalyse Region C“\n- Hintergrundgespräche bei „NETZWERK-LOUNGE“ & Campusrundgang\n\nANMELDUNG: bis Mo.\, 12.11.07\nViele Professoren und Mitarbeiter der WiWi-Fakultät\nM. Richter (marlene.richter@wirtschaft.tu-chemnitz.de)\, Tel.: 531-34197\, Fax: -26369 & K. Michaelis (mikar@hrz.tu-chemnitz.de)
ORGANIZER:MAILTO:mikar@hrz.tu-chemnitz.de
UID:9420@www.tu-chemnitz.de
CREATED:20071031T010800Z
DTSTAMP:20210802T194637Z
END:VEVENT
END:VCALENDAR
