BEGIN:VCALENDAR
VERSION:2.0
PRODID:TU Chemnitz
METHOD:PUBLISH
X-WR-CALNAME:Veranstaltungen der TU Chemnitz
X-WR-TIMEZONE:Europe/Berlin
BEGIN:VEVENT
CLASS:PUBLIC
DTSTART;TZID="Europe/Berlin":20071101T191500
DTEND;TZID="Europe/Berlin":20071101T203000
LOCATION:ZFG - Reichenhainer Str. 31-33
SUMMARY:Tai Chi Kampfkunst (Institut für Sportwissenschaft)
DESCRIPTION:Hier wird intensiver\, sowohl "solo" als auch mit Partnern\, trainiert.Für Leute mit Vorerfahrung im Kampfsport und/oder\, die bereit sind\, intensiv zu trainieren.\nGiles Rosbander
ORGANIZER:MAILTO:stephanie.holzapfel@phil.tu-chemnitz.de
UID:9401@www.tu-chemnitz.de
CREATED:20071029T121500Z
DTSTAMP:20210802T194630Z
END:VEVENT
END:VCALENDAR
