BEGIN:VCALENDAR
VERSION:2.0
PRODID:TU Chemnitz
METHOD:PUBLISH
X-WR-CALNAME:Veranstaltungen der TU Chemnitz
X-WR-TIMEZONE:Europe/Berlin
BEGIN:VEVENT
CLASS:PUBLIC
DTSTART;TZID="Europe/Berlin":20071101T180000
DTEND;TZID="Europe/Berlin":20071101T191500
LOCATION:ZFG - Reichenhainer Str. 31-33
SUMMARY:Tai Chi (Institut für Sportwissenschaft)
DESCRIPTION:Tai Chi Chuan ist eine chinesische Kampfkunst\, die auch eine meditative und gesundheitliche Wirkung hat. Sie kann sehr entspannend wirken\, ist aber zugleich intensive Arbeit für Körper und Geist! Das Training wirkt sich auf alle Bewegungsbereiche aus.\nGiles Rosbander
ORGANIZER:MAILTO:stephanie.holzapfel@phil.tu-chemnitz.de
UID:9400@www.tu-chemnitz.de
CREATED:20071029T121100Z
DTSTAMP:20210802T194640Z
END:VEVENT
END:VCALENDAR
