BEGIN:VCALENDAR
VERSION:2.0
PRODID:TU Chemnitz
METHOD:PUBLISH
X-WR-CALNAME:Veranstaltungen der TU Chemnitz
X-WR-TIMEZONE:Europe/Berlin
BEGIN:VEVENT
CLASS:PUBLIC
DTSTART;TZID="Europe/Berlin":19981014T104500
DTEND;TZID="Europe/Berlin":19981014T104500
LOCATION:Uni-Teil 3: Reichenhainer Str. 70\, Chemnitz (Rühlmann-Bau)
SUMMARY:Gastvortrag: "Rußlands Außenpolitik ohne Macht?" (Philosophische Fakultät\, Professur für Internationale Politik)
DESCRIPTION:Prof. Boris S. Orlov\, Akademie der Wissenschaften\, Moskau (INION)\nProf. Dr. Beate Neuss\, Tel. 5 31-84 04
ORGANIZER:MAILTO:iroe@hrz.tu-chemnitz.de
UID:94@www.tu-chemnitz.de
CREATED:19980918T151400Z
DTSTAMP:20210802T203601Z
END:VEVENT
END:VCALENDAR
