BEGIN:VCALENDAR
VERSION:2.0
PRODID:TU Chemnitz
METHOD:PUBLISH
X-WR-CALNAME:Veranstaltungen der TU Chemnitz
X-WR-TIMEZONE:Europe/Berlin
BEGIN:VEVENT
CLASS:PUBLIC
DTSTART;TZID="Europe/Berlin":20071030T173000
DTEND;TZID="Europe/Berlin":20071030T183000
LOCATION:ZFG - Reichenhainer Str. 31-33
SUMMARY:Step-Aerobic/Mitarbeiter (Institut für Sportwissenschaft)
DESCRIPTION:Ein intensives\, gelenkschonendes\, aerobes Fitnesstraining mit Schrittkombinationen auf dem Step\, bei dem große Muskelgruppen beansprucht werden. (Kurs nur für Mitarbeiter!)\nLuise Niemand\nstephanie.holzapfel@phil.tu-chemnitz.de
ORGANIZER:MAILTO:stephanie.holzapfel@phil.tu-chemnitz.de
UID:9393@www.tu-chemnitz.de
CREATED:20071029T103500Z
DTSTAMP:20210802T194705Z
END:VEVENT
END:VCALENDAR
