BEGIN:VCALENDAR
VERSION:2.0
PRODID:TU Chemnitz
METHOD:PUBLISH
X-WR-CALNAME:Veranstaltungen der TU Chemnitz
X-WR-TIMEZONE:Europe/Berlin
BEGIN:VEVENT
CLASS:PUBLIC
DTSTART;TZID="Europe/Berlin":20071029T180000
DTEND;TZID="Europe/Berlin":20071029T193000
LOCATION:ZFG - Reichenhainer Str. 31-33
SUMMARY:Muskeltrainng/Kraftsport (Institut für Sportwissenschaft)
DESCRIPTION:Vielseitiges Muskeltraining;für richtiges Üben an den Fahrradergometern wird auch auf methodische Grundlagen des Herz-Kreislauf-Trainings eingegangen.Kurszeitraum:6 Wochen (90 Min./Woche);danach selbständiges Training möglich.\nMarc Stoll
ORGANIZER:MAILTO:stephanie.holzapfel@phil.tu-chemnitz.de
UID:9387@www.tu-chemnitz.de
CREATED:20071029T095700Z
DTSTAMP:20210802T194707Z
END:VEVENT
END:VCALENDAR
