BEGIN:VCALENDAR
VERSION:2.0
PRODID:TU Chemnitz
METHOD:PUBLISH
X-WR-CALNAME:Veranstaltungen der TU Chemnitz
X-WR-TIMEZONE:Europe/Berlin
BEGIN:VEVENT
CLASS:PUBLIC
DTSTART;TZID="Europe/Berlin":20071102T090000
DTEND;TZID="Europe/Berlin":20071102T170000
LOCATION:Erfenschlager Str. 73\, Chemnitz
SUMMARY:SAXEED Idea Day - Create your own business (TU Chemnitz\, Gründernetzwerk SAXEED)
DESCRIPTION:Markus Löwe\, Torsten Scholl\nAnmeldung unter http://www.saxeed.net/index.php?id=294&event=739 erforderlich
ORGANIZER:MAILTO:kevt@hrz.tu-chemnitz.de
UID:9373@www.tu-chemnitz.de
CREATED:20071025T132300Z
DTSTAMP:20210802T194643Z
END:VEVENT
END:VCALENDAR
