BEGIN:VCALENDAR
VERSION:2.0
PRODID:TU Chemnitz
METHOD:PUBLISH
X-WR-CALNAME:Veranstaltungen der TU Chemnitz
X-WR-TIMEZONE:Europe/Berlin
BEGIN:VEVENT
CLASS:PUBLIC
DTSTART;TZID="Europe/Berlin":20071114T200000
DTEND;TZID="Europe/Berlin":20071114T230000
LOCATION:Club der Kulturen\, Thüringer Weg 3
SUMMARY:film[k]ost Teil 2 - Rumänien
DESCRIPTION:Mit Alltagserlebnissen in Kolumnenform bringt Sebastian Schlegel dem Publikum Land und Leute näher. \nIm Anschluss erzählt der Film "Occident" von Christian Mungiu (2002) von träumenden Rumänen und ihren unerfüllten Wünschen.\nMehr Infos unter dem Link.
ORGANIZER:MAILTO:isabel.knoch@2004.tu-chemnitz.de
UID:9343@www.tu-chemnitz.de
CREATED:20071023T165600Z
DTSTAMP:20210802T194638Z
END:VEVENT
END:VCALENDAR
