BEGIN:VCALENDAR
VERSION:2.0
PRODID:TU Chemnitz
METHOD:PUBLISH
X-WR-CALNAME:Veranstaltungen der TU Chemnitz
X-WR-TIMEZONE:Europe/Berlin
BEGIN:VEVENT
CLASS:PUBLIC
DTSTART;TZID="Europe/Berlin":20071025T210000
DTEND;TZID="Europe/Berlin":20071025T230000
LOCATION:Kino\, Reichenhainer Str. 35/37\, Keller
SUMMARY:[Campuskino * "mittendrin"] Der letzte König von Schottland (OmdU) (Filmclub »mittendrin«)
DESCRIPTION:Unrecht hat viele Gesichter. Ein besonders faszinierendes gehört Forrest Whitaker. Als ugandischer Diktator Idi Amin brilliert er OSCAR-würdig zwischen Wahnsinn und Glamour\, Charme und Sadismus.\nEintritt: 1\,50 Euro
ORGANIZER:MAILTO:robert.gerstenberger@s2004.tu-chemnitz.de
UID:9313@www.tu-chemnitz.de
CREATED:20071019T220000Z
DTSTAMP:20210802T194711Z
END:VEVENT
END:VCALENDAR
