BEGIN:VCALENDAR
VERSION:2.0
PRODID:TU Chemnitz
METHOD:PUBLISH
X-WR-CALNAME:Veranstaltungen der TU Chemnitz
X-WR-TIMEZONE:Europe/Berlin
BEGIN:VEVENT
CLASS:PUBLIC
DTSTART;TZID="Europe/Berlin":20071020T210000
DTEND;TZID="Europe/Berlin":20071020T235900
LOCATION:* Bunker-Club * Rosenplatz 7 * gleich am Campus *
SUMMARY:BLOOD-HORROR-MOD-HARDROCKING-PSYCHO-NIGHT
DESCRIPTION:Live:\nCURLEE WURLEE (D)\nTHE HEADLESS HORSEMEN (D)\nHITCHCOCKS (DK)\nUltra sexy Frenglish 60's Beat Power Pop Punk sensation with angry young boys'n'grrrls...
ORGANIZER:MAILTO:schneide@hrz.tu-chemnitz.de
UID:9311@www.tu-chemnitz.de
CREATED:20071019T132500Z
DTSTAMP:20210802T194720Z
END:VEVENT
END:VCALENDAR
