BEGIN:VCALENDAR
VERSION:2.0
PRODID:TU Chemnitz
METHOD:PUBLISH
X-WR-CALNAME:Veranstaltungen der TU Chemnitz
X-WR-TIMEZONE:Europe/Berlin
BEGIN:VEVENT
CLASS:PUBLIC
DTSTART;TZID="Europe/Berlin":19981019T193000
DTEND;TZID="Europe/Berlin":19981019T193000
LOCATION:Uni-Teil 3: Vettersstr. 64/66\, Chemnitz (Studentenwohnheim)
SUMMARY:Englische Tänze (Tanzkreis Chemnitz)
DESCRIPTION:Die Tanzlehrerin Hanny D. Budnick aus den USA ist fuer\neinen Abend bei uns im Tanzkreis.\nWer sich bisher nicht getraut hat\, zu uns zu kommen\, hat an diesem\nAbend Gelegenheit\, unter professioneller Anleitung die\nersten Schritte zu tun.\nHanny D. Budnick\nfalk.braeuer@mathematik.tu-chemnitz.de
ORGANIZER:MAILTO:fbraeuer@mathematik.tu-chemnitz.de
UID:93@www.tu-chemnitz.de
CREATED:19980916T074000Z
DTSTAMP:20210802T203601Z
END:VEVENT
END:VCALENDAR
