BEGIN:VCALENDAR
VERSION:2.0
PRODID:TU Chemnitz
METHOD:PUBLISH
X-WR-CALNAME:Veranstaltungen der TU Chemnitz
X-WR-TIMEZONE:Europe/Berlin
BEGIN:VEVENT
CLASS:PUBLIC
DTSTART;TZID="Europe/Berlin":20071017T163000
DTEND;TZID="Europe/Berlin":20071017T163000
LOCATION:Str. der Nationen 62\, Chemnitz (Böttcher-Bau)
SUMMARY:Nanocomposites as sensing platforms: detection of dopamine and uric acid (Fakultät für Naturwissenschaften\, Institut für Chemie)
DESCRIPTION:Dr. Yegnaram (CECRI Karaikudi\, India)
ORGANIZER:MAILTO:nora.younadam@chemie.tu-chemnitz.de
UID:9293@www.tu-chemnitz.de
CREATED:20071017T133000Z
DTSTAMP:20210802T194720Z
END:VEVENT
END:VCALENDAR
