BEGIN:VCALENDAR
VERSION:2.0
PRODID:TU Chemnitz
METHOD:PUBLISH
X-WR-CALNAME:Veranstaltungen der TU Chemnitz
X-WR-TIMEZONE:Europe/Berlin
BEGIN:VEVENT
CLASS:PUBLIC
DTSTART;TZID="Europe/Berlin":20071024T080000
DTEND;TZID="Europe/Berlin":20071025T160000
LOCATION:Ilmenau
SUMMARY:Inova - Firmenkontaktmesse in Ilmenau (VWI Chemnitz e.V.)
DESCRIPTION:Die inova2007\, ist mit über 140 Ausstellern von A wie Altran Group\, über BMW\, Ernst & Young\, SAP bis Z wie Zeiss eine der beliebtesten und erfolgreichsten Firmenkontaktmessen in Deutschland.\nWeiter Informationen findet ihr auf der Homepage.\nAnmeldung für die Busfahrt zur Inova für 5€ unter --> www.vwi-chemnitz.de <-- im Veranstaltungskalender
ORGANIZER:MAILTO:jofa@hrz.tu-chemnitz.de
UID:9287@www.tu-chemnitz.de
CREATED:20071017T092300Z
DTSTAMP:20210802T194713Z
END:VEVENT
END:VCALENDAR
