BEGIN:VCALENDAR
VERSION:2.0
PRODID:TU Chemnitz
METHOD:PUBLISH
X-WR-CALNAME:Veranstaltungen der TU Chemnitz
X-WR-TIMEZONE:Europe/Berlin
BEGIN:VEVENT
CLASS:PUBLIC
DTSTART;TZID="Europe/Berlin":20071018T190000
DTEND;TZID="Europe/Berlin":20071018T200000
LOCATION:Reichenhainer Str. 90\, Chemnitz (Zentr. Hörsaal- und Seminargebäude)
SUMMARY:Börsenführerschein Teil 1 (Studentischer Börsenverein Chemnitz- Mittweida e. V:)
DESCRIPTION:Börsenführerschein Teil 1 (Fortsetzung)\n\nThema:"Informationsbeschaffung über mögliche Investments"\nFür alle Interessenten am Thema Börse und Finanzen. Es sind auch alle Erstsemestler herzlich eingeladen.\nwww.tu-chemnitz.de/stud/freizeit/boersenverein/\nDaniel Flade\, Sebastian Mühl
ORGANIZER:MAILTO:bv-vorstand@tu-chemnitz.de
UID:9285@www.tu-chemnitz.de
CREATED:20071016T160200Z
DTSTAMP:20210802T194712Z
END:VEVENT
END:VCALENDAR
