BEGIN:VCALENDAR
VERSION:2.0
PRODID:TU Chemnitz
METHOD:PUBLISH
X-WR-CALNAME:Veranstaltungen der TU Chemnitz
X-WR-TIMEZONE:Europe/Berlin
BEGIN:VEVENT
CLASS:PUBLIC
DTSTART;TZID="Europe/Berlin":20071018T153000
DTEND;TZID="Europe/Berlin":20071018T170000
LOCATION:Reichenhainer Str. 90\, Chemnitz (Zentr. Hörsaal- und Seminargebäude)
SUMMARY:Smart Grids (Fakultät für Elektrotechnik und Informationstechnik)
DESCRIPTION:Im Rahmen eines Fakultätskolloquiums spricht Herr Dr. Michael Weinhold (Siemens\, Erlangen) zur Problematik des Einflusses erneuerbarer und dezentraler Einspeiser auf das Energieversorgungsnetz.\nDr. Michael Weinhold\nthomas.schuhmann@etit.tu-chemnitz.de
ORGANIZER:MAILTO:thomas.schuhmann@etit.tu-chemnitz.de
UID:9284@www.tu-chemnitz.de
CREATED:20071016T123400Z
DTSTAMP:20210802T194704Z
END:VEVENT
END:VCALENDAR
