BEGIN:VCALENDAR
VERSION:2.0
PRODID:TU Chemnitz
METHOD:PUBLISH
X-WR-CALNAME:Veranstaltungen der TU Chemnitz
X-WR-TIMEZONE:Europe/Berlin
BEGIN:VEVENT
CLASS:PUBLIC
DTSTART;TZID="Europe/Berlin":20071019T200000
DTEND;VALUE=DATE:20071020
LOCATION:Reitbahnstraße 84
SUMMARY:TANZ DEN FREIRAUM (Rote Hochschulgruppe // urbane Raumpionier_innen)
DESCRIPTION:20.00 Uhr Film "Mainzer Straße"\nfiodor (Mini Song Band)\nMirrormoon (Space Indierock)\nEXKAPUTTGEHEN (Magazin Pop)\nrhg-info@rothaus-chemnitz.de
ORGANIZER:MAILTO:moja@hrz.tu-chemnitz.de
UID:9279@www.tu-chemnitz.de
CREATED:20071015T203300Z
DTSTAMP:20210802T194708Z
END:VEVENT
END:VCALENDAR
