BEGIN:VCALENDAR
VERSION:2.0
PRODID:TU Chemnitz
METHOD:PUBLISH
X-WR-CALNAME:Veranstaltungen der TU Chemnitz
X-WR-TIMEZONE:Europe/Berlin
BEGIN:VEVENT
CLASS:PUBLIC
DTSTART;TZID="Europe/Berlin":20000203T090000
DTEND;TZID="Europe/Berlin":20000204T160000
LOCATION:Schlosshotel Klaffenbach\, Wasserschlossweg 6\, 09123 Chemnitz
SUMMARY:"Finanzentwicklungssystem in Mittel- und Osteuropa - die ersten 10 Jahre" (Fakultät für Wirtschaftswissenschaften\, Commerzbank-Stiftungsgastprofessur für Monetäre Ökonomik und Finanzwirtschaft)
DESCRIPTION:Anmeldung: Prof. Dr. Adalbert Winkler\, Tel. (03 71)5 31-39 81 E-Mail: adalbert.winkler@wirtschaft.tu-chemnitz.de
ORGANIZER:MAILTO:iroe@hrz.tu-chemnitz.de
UID:927@www.tu-chemnitz.de
CREATED:20000120T111100Z
DTSTAMP:20210802T203219Z
END:VEVENT
END:VCALENDAR
