BEGIN:VCALENDAR
VERSION:2.0
PRODID:TU Chemnitz
METHOD:PUBLISH
X-WR-CALNAME:Veranstaltungen der TU Chemnitz
X-WR-TIMEZONE:Europe/Berlin
BEGIN:VEVENT
CLASS:PUBLIC
DTSTART;TZID="Europe/Berlin":20071015T190000
DTEND;TZID="Europe/Berlin":20071015T200000
LOCATION:ZFG - Reichenhainer Str. 31-33
SUMMARY:Bauch\, Beine\, Po (Institut für Sportwissenschaft)
DESCRIPTION:Dieses ist ein Training für die spezielle Straffung und Kräftigung der Bauch-\, Bein- und Gesäßmuskulatur. Für Einsteiger und Fortgeschrittene geeignet!\nMaria Siegmund
ORGANIZER:MAILTO:stephanie.holzapfel@phil.tu-chemnitz.de
UID:9269@www.tu-chemnitz.de
CREATED:20071015T095600Z
DTSTAMP:20210802T194706Z
END:VEVENT
END:VCALENDAR
