BEGIN:VCALENDAR
VERSION:2.0
PRODID:TU Chemnitz
METHOD:PUBLISH
X-WR-CALNAME:Veranstaltungen der TU Chemnitz
X-WR-TIMEZONE:Europe/Berlin
BEGIN:VEVENT
CLASS:PUBLIC
DTSTART;TZID="Europe/Berlin":20071011T201500
DTEND;TZID="Europe/Berlin":20071011T201500
LOCATION:Vettersstr. 64/66\, Chemnitz (Studentenwohnheim)
SUMMARY:Infoveranstaltung für Erstsemestler (St.V. Teutonia)
DESCRIPTION:Nach einer kurzen Selbstdarstellung\, wer wir sind und was wir tun könnt Ihr bei einem zünftigen Humpen Bier Fragen stellen und mit uns diskutieren. (das erste Getränk ist für neue Gäste frei)\neinsx@teutonenweb.de
ORGANIZER:MAILTO:thomas.otto@informatik.tu-chemnitz.de
UID:9256@www.tu-chemnitz.de
CREATED:20071010T234700Z
DTSTAMP:20210802T194705Z
END:VEVENT
END:VCALENDAR
