BEGIN:VCALENDAR
VERSION:2.0
PRODID:TU Chemnitz
METHOD:PUBLISH
X-WR-CALNAME:Veranstaltungen der TU Chemnitz
X-WR-TIMEZONE:Europe/Berlin
BEGIN:VEVENT
CLASS:PUBLIC
DTSTART;TZID="Europe/Berlin":20000321T153000
DTEND;TZID="Europe/Berlin":20000321T153000
LOCATION:ZEBRAS\, Otto-Schmerbach-Straße 30\, 09117 Chemnitz
SUMMARY:"Entwicklungen auf dem Gebiet der Fügetechnik" (Fakultät für Maschinenbau und Verfahrenstechnik\, Professur Werkstoffe des Maschinenbaus\, AWT/VDI-Arbeitskreis Wärmebehandlung und Werkstofftechnik Chemnitz/Freiberg)
DESCRIPTION:Es besteht die Möglichkeit zur Besichtigung der Anlagentechnik.\nDr. Dietmar Schober\, Zentrum für Entwicklung\, Beratung und Ausbildung in der Schweißtechnik e.V. (ZEBRAS) Chemnitz\nDipl.-Ing. Thieme\, Tel. 03 71/3 36 32 22
ORGANIZER:MAILTO:iroe@hrz.tu-chemnitz.de
UID:925@www.tu-chemnitz.de
CREATED:20000120T081500Z
DTSTAMP:20210802T203201Z
END:VEVENT
END:VCALENDAR
