BEGIN:VCALENDAR
VERSION:2.0
PRODID:TU Chemnitz
METHOD:PUBLISH
X-WR-CALNAME:Veranstaltungen der TU Chemnitz
X-WR-TIMEZONE:Europe/Berlin
BEGIN:VEVENT
CLASS:PUBLIC
DTSTART;TZID="Europe/Berlin":20071101T140000
DTEND;TZID="Europe/Berlin":20071101T180000
LOCATION:Agentur für Arbeit Chemnitz\, Heinrich-Lorenz-Str. 20\, 09120 Chemnitz
SUMMARY:Rhetorik und Präsentation (Agentur für Arbeit Chemnitz/Hochschulteam)
DESCRIPTION:Was eine gute Rede und einen guten Vortrag ausmacht\, mit Möglichkeit eines Feedbackteils an einem Folgetag\nFrau Schulz\, MLP\nAnmeldung unter Chemnitz.Hochschulteam@arbeitsagentur.de\, Tel. 0371/567-2240
ORGANIZER:MAILTO:evelin.haeusler@verwaltung.tu-chemnitz.de
UID:9241@www.tu-chemnitz.de
CREATED:20071010T142200Z
DTSTAMP:20210802T194627Z
END:VEVENT
END:VCALENDAR
