BEGIN:VCALENDAR
VERSION:2.0
PRODID:TU Chemnitz
METHOD:PUBLISH
X-WR-CALNAME:Veranstaltungen der TU Chemnitz
X-WR-TIMEZONE:Europe/Berlin
BEGIN:VEVENT
CLASS:PUBLIC
DTSTART;TZID="Europe/Berlin":20071023T100000
DTEND;TZID="Europe/Berlin":20071023T160000
LOCATION:Agentur für Arbeit Chemnitz\, Heinrich-Lorenz-Str. 20\, 09120 Chemnitz
SUMMARY:Assesssment-Center-Training (Agentur für Arbeit Chemnitz/Hochschulteam)
DESCRIPTION:Generalprobe für dieses Personalauswahlverfahren\, mit Möglichkeit der individuellen Auswertung am 24.10.2007\nHerr Krüger\, HORBACH-Wirtschaftsberatung\nChemnitz.Hochschulteam@arbeitsagentur.de; Tel. 0371/567-2240
ORGANIZER:MAILTO:evelin.haeusler@verwaltung.tu-chemnitz.de
UID:9239@www.tu-chemnitz.de
CREATED:20071010T135700Z
DTSTAMP:20210802T194705Z
END:VEVENT
END:VCALENDAR
