BEGIN:VCALENDAR
VERSION:2.0
PRODID:TU Chemnitz
METHOD:PUBLISH
X-WR-CALNAME:Veranstaltungen der TU Chemnitz
X-WR-TIMEZONE:Europe/Berlin
BEGIN:VEVENT
CLASS:PUBLIC
DTSTART;TZID="Europe/Berlin":20071114T160000
DTEND;TZID="Europe/Berlin":20071114T173000
LOCATION:Str. der Nationen 62\, Chemnitz (Böttcher-Bau)
SUMMARY:Literaturrecherchen und Volltextbeschaffung - die UB Chemnitz im Web (TU Chemnitz)
DESCRIPTION:Dagmar Hesse\, Universitätsbibliothek\nAnmeldung unbedingt erforderlich!
ORGANIZER:MAILTO:sigo@hrz.tu-chemnitz.de
UID:9229@www.tu-chemnitz.de
CREATED:20071009T185100Z
DTSTAMP:20210802T194635Z
END:VEVENT
END:VCALENDAR
