BEGIN:VCALENDAR
VERSION:2.0
PRODID:TU Chemnitz
METHOD:PUBLISH
X-WR-CALNAME:Veranstaltungen der TU Chemnitz
X-WR-TIMEZONE:Europe/Berlin
BEGIN:VEVENT
CLASS:PUBLIC
DTSTART;TZID="Europe/Berlin":20071108T133000
DTEND;TZID="Europe/Berlin":20071108T143000
LOCATION:Pegasus-Center\, Chemnitz
SUMMARY:Recherchieren mit dem OPAC (TU Chemnitz)
DESCRIPTION:Silke Goldberg\, Universitätsbibliothek\nAnmeldung unbedingt erforderlich!
ORGANIZER:MAILTO:sigo@hrz.tu-chemnitz.de
UID:9227@www.tu-chemnitz.de
CREATED:20071009T181500Z
DTSTAMP:20210802T194633Z
END:VEVENT
END:VCALENDAR
