BEGIN:VCALENDAR
VERSION:2.0
PRODID:TU Chemnitz
METHOD:PUBLISH
X-WR-CALNAME:Veranstaltungen der TU Chemnitz
X-WR-TIMEZONE:Europe/Berlin
BEGIN:VEVENT
CLASS:PUBLIC
DTSTART;TZID="Europe/Berlin":20071205T150000
DTEND;TZID="Europe/Berlin":20071205T160000
LOCATION:Pegasus-Center\, Chemnitz
SUMMARY:Führung durch die Teilbibliothek Geisteswissenschaften und Mathematik (Universitätsbibliothek)
DESCRIPTION:Keine Anmeldung erforderlich!
ORGANIZER:MAILTO:sigo@hrz.tu-chemnitz.de
UID:9215@www.tu-chemnitz.de
CREATED:20071009T165400Z
DTSTAMP:20210802T194544Z
END:VEVENT
END:VCALENDAR
