BEGIN:VCALENDAR
VERSION:2.0
PRODID:TU Chemnitz
METHOD:PUBLISH
X-WR-CALNAME:Veranstaltungen der TU Chemnitz
X-WR-TIMEZONE:Europe/Berlin
BEGIN:VEVENT
CLASS:PUBLIC
DTSTART;TZID="Europe/Berlin":20071109T083000
DTEND;TZID="Europe/Berlin":20071109T154500
LOCATION:Erfenschlager Str. 73\, Chemnitz
SUMMARY:Vernetzt planen und produzieren - VPP2007 (TU Chemnitz\, Paketantrag (PAK) 196 Kompetenzzellenbasierte Produktionsnetze)
DESCRIPTION:Die traditionsreiche Tagung VPP200x bietet Wissenschaftlern und Praktikern\, die sich mit Fragestellungen des Bildens und Betreibens von Produktions- und Dienstleistungsnetzen auseinandersetzen\, ein Podium zum intensiven Wissens- und Erfahrungsaustausch.\nDr. Jörg Ackermann\, 0371 531 35306\, pak196@tu-chemnitz.de
ORGANIZER:MAILTO:joerg.ackermann@mb.tu-chemnitz.de
UID:9201@www.tu-chemnitz.de
CREATED:20071009T114900Z
DTSTAMP:20210802T194640Z
END:VEVENT
END:VCALENDAR
