BEGIN:VCALENDAR
VERSION:2.0
PRODID:TU Chemnitz
METHOD:PUBLISH
X-WR-CALNAME:Veranstaltungen der TU Chemnitz
X-WR-TIMEZONE:Europe/Berlin
BEGIN:VEVENT
CLASS:PUBLIC
DTSTART;TZID="Europe/Berlin":20071120T171500
DTEND;TZID="Europe/Berlin":20071120T184500
LOCATION:Wilhelm-Raabe-Str. 43\, Chemnitz
SUMMARY:Forschungskolloquium Psychologie (Philosophische Fakultät\, Institut für Psychologie)
DESCRIPTION:"Heuristiken statt Normen für das gute Schlussfolgern"\nProf. Dr. Laura Martignon\, Pädagogische Hochschule Ludwigsburg\nSekretariat: 531 36392 oder 36313
ORGANIZER:MAILTO:Philosophische Fakultät
UID:9200@www.tu-chemnitz.de
CREATED:20071009T100600Z
DTSTAMP:20210802T194626Z
END:VEVENT
END:VCALENDAR
