BEGIN:VCALENDAR
VERSION:2.0
PRODID:TU Chemnitz
METHOD:PUBLISH
X-WR-CALNAME:Veranstaltungen der TU Chemnitz
X-WR-TIMEZONE:Europe/Berlin
BEGIN:VEVENT
CLASS:PUBLIC
DTSTART;TZID="Europe/Berlin":20071108T200000
DTEND;TZID="Europe/Berlin":20071108T220000
LOCATION:Str. der Nationen 62\, Chemnitz (Böttcher-Bau)
SUMMARY:AgricolaFORUM: Letzte Station Moskau (TU Chemnitz\, Katholische Akademie Dresden)
DESCRIPTION:Film und Vortrag erzählen die Geschichte der Erschossenen von Moskau aus der Sicht ihrer Kinder\, dokumentieren die Recherchen im KGB-Archiv und führen zum Donskoje-Friedhof - ein Beitrag zur Aufarbeitung der Geschichte.\nMichael Feldmann\, Michael Dulig (beide MDR Dresden); Autor Jörg Rudolph\, Berlin
ORGANIZER:MAILTO:friedrich.naumann@phil.tu-chemnitz.de
UID:9179@www.tu-chemnitz.de
CREATED:20071005T115000Z
DTSTAMP:20210802T194635Z
END:VEVENT
END:VCALENDAR
