BEGIN:VCALENDAR
VERSION:2.0
PRODID:TU Chemnitz
METHOD:PUBLISH
X-WR-CALNAME:Veranstaltungen der TU Chemnitz
X-WR-TIMEZONE:Europe/Berlin
BEGIN:VEVENT
CLASS:PUBLIC
DTSTART;TZID="Europe/Berlin":20071101T200000
DTEND;TZID="Europe/Berlin":20071101T220000
LOCATION:Reichenhainer Str. 90\, Chemnitz (Zentr. Hörsaal- und Seminargebäude)
SUMMARY:Tief in Afrika
DESCRIPTION:Eine Reise voller Härten und Humor\, kleinen Katastrophen\, aber mit beeindruckenden Menschen und paradiesischer Natur.\nHartmut Fiebig\nBoofeladen Chemnitz\, Tel. 0371-5607550
ORGANIZER:MAILTO:pefra@hrz.tu-chemnitz.de
UID:9173@www.tu-chemnitz.de
CREATED:20071005T092800Z
DTSTAMP:20210802T194643Z
END:VEVENT
END:VCALENDAR
