BEGIN:VCALENDAR
VERSION:2.0
PRODID:TU Chemnitz
METHOD:PUBLISH
X-WR-CALNAME:Veranstaltungen der TU Chemnitz
X-WR-TIMEZONE:Europe/Berlin
BEGIN:VEVENT
CLASS:PUBLIC
DTSTART;TZID="Europe/Berlin":20000126T183000
DTEND;TZID="Europe/Berlin":20000126T210000
LOCATION:Uni-Teil 3: Reichenhainer Str. 39\, Chemnitz
SUMMARY:Serata Friulana (Philosophische Fakultät\, Romanische Sprachwissenschaft)
DESCRIPTION:Die Chemnitzer Romanisten laden ein zu einem Abend mit Frau Dr. Laura Roman del Prete (Universität Siegen) über Sprache\, Literatur und Kultur des Friaul.\nDr. Laura Roman del Prete\nSekretariat Romanische Literaturwissenschaft\, Frau Günther\, Tel. 8382
ORGANIZER:MAILTO:dane@hrz.tu-chemnitz.de
UID:917@www.tu-chemnitz.de
CREATED:20000114T115800Z
DTSTAMP:20210802T203231Z
END:VEVENT
END:VCALENDAR
