BEGIN:VCALENDAR
VERSION:2.0
PRODID:TU Chemnitz
METHOD:PUBLISH
X-WR-CALNAME:Veranstaltungen der TU Chemnitz
X-WR-TIMEZONE:Europe/Berlin
BEGIN:VEVENT
CLASS:PUBLIC
DTSTART;TZID="Europe/Berlin":20071025T171500
DTEND;TZID="Europe/Berlin":20071025T191500
LOCATION:Reichenhainer Str. 90\, Chemnitz (Zentr. Hörsaal- und Seminargebäude)
SUMMARY:DIE PRIVATISIERUNG DER AUSSENPOLITIK\, Zur Rolle amerikanischer PR-Agenturen in den Balkankriegen (Rosa Luxemburg Club Chemnitz)
DESCRIPTION:Jörg Becker zeigt anhand der Analyse von Verträgen zwischen ex-jugoslaw. Kunden und amerikan. PR-Agenturen\, wie moderne Kriegskommunikation betrieben wird.\nProf. Dr. Jörg Becker\, Honorar- und Gastprofessor für Politikwissenschaft an den Universitäten Marburg und Innsbruck\nrlcchemnitz@web.de
ORGANIZER:MAILTO:thomas.draeger@s2002.tu-chemnitz.de
UID:9164@www.tu-chemnitz.de
CREATED:20071003T165600Z
DTSTAMP:20210802T194710Z
END:VEVENT
END:VCALENDAR
