BEGIN:VCALENDAR
VERSION:2.0
PRODID:TU Chemnitz
METHOD:PUBLISH
X-WR-CALNAME:Veranstaltungen der TU Chemnitz
X-WR-TIMEZONE:Europe/Berlin
BEGIN:VEVENT
CLASS:PUBLIC
DTSTART;TZID="Europe/Berlin":20071008T183000
DTEND;TZID="Europe/Berlin":20071008T200000
LOCATION:Petrikirche am Theaterplatz
SUMMARY:Semesteranfangsgottesdienst der christlichen Studentengruppen 
DESCRIPTION:Herzlich willkommen im neuen Semester! Hier kannst du alte Bekannte wiedertreffen und als Erstsemestler neue kennenlernen und mit ihnen zusammen das Semester mit Gott beginnen.\nESG\, KSG\, SMD\, Campus für Christus
ORGANIZER:MAILTO:cul@hrz.tu-chemnitz.de
UID:9163@www.tu-chemnitz.de
CREATED:20071002T214800Z
DTSTAMP:20210802T194716Z
END:VEVENT
END:VCALENDAR
