BEGIN:VCALENDAR
VERSION:2.0
PRODID:TU Chemnitz
METHOD:PUBLISH
X-WR-CALNAME:Veranstaltungen der TU Chemnitz
X-WR-TIMEZONE:Europe/Berlin
BEGIN:VEVENT
CLASS:PUBLIC
DTSTART;TZID="Europe/Berlin":20071009T190000
DTEND;TZID="Europe/Berlin":20071009T235900
LOCATION:Reichenhainer Str. 55\, Chemnitz (Mensa)
SUMMARY:Semesterauftaktkneipe
DESCRIPTION:verschiedene Getränkespecials und als Highlight die erste Ninento Wi Bowling Meisterschaft
ORGANIZER:MAILTO:piek@hrz-tu-chemnitz
UID:9161@www.tu-chemnitz.de
CREATED:20071002T151200Z
DTSTAMP:20210802T194703Z
END:VEVENT
END:VCALENDAR
