BEGIN:VCALENDAR
VERSION:2.0
PRODID:TU Chemnitz
METHOD:PUBLISH
X-WR-CALNAME:Veranstaltungen der TU Chemnitz
X-WR-TIMEZONE:Europe/Berlin
BEGIN:VEVENT
CLASS:PUBLIC
DTSTART;TZID="Europe/Berlin":20071009T120000
DTEND;TZID="Europe/Berlin":20071009T153000
LOCATION:Reichenhainer Str. 90\, Chemnitz (Zentr. Hörsaal- und Seminargebäude)
SUMMARY:Future Truck/Experimentierbox präsentieren sich anlässlich des Besuches der Thailändischen Kronprinzessin (Fakultät für Maschinenbau\, CreativeCenter)
DESCRIPTION:Mit zahlreichen Experimenten an Bord begeistert der Future Truck für Technik und Naturwissenschaften und informiert über Berufe und Studienmöglichkeiten.\nMitarbeiterinnen und Mitarbeiter der Fakultäten der Technischen Universität Chemnitz\, Studien und Lernberater\nVeronika Mühlhausen\, Tel. 0371 531 36728\, E-Mail: veronika.muehlhausen@mb.tu-chemnitz.de
ORGANIZER:MAILTO:veronika.muehlhausen@mb.tu-chemnitz.de
UID:9142@www.tu-chemnitz.de
CREATED:20070928T113800Z
DTSTAMP:20210802T194713Z
END:VEVENT
END:VCALENDAR
