BEGIN:VCALENDAR
VERSION:2.0
PRODID:TU Chemnitz
METHOD:PUBLISH
X-WR-CALNAME:Veranstaltungen der TU Chemnitz
X-WR-TIMEZONE:Europe/Berlin
BEGIN:VEVENT
CLASS:PUBLIC
DTSTART;TZID="Europe/Berlin":20071012T090000
DTEND;TZID="Europe/Berlin":20071012T150000
LOCATION:IHK Südwestsachsen\, Großer Sitzungssaal
SUMMARY:Alumni - im Kontext sächsisch-tschechischer Wissenschaftsaktivitäten (Philosophische Fakultät\, Sächs.-Tschech. Hochschulkolleg)
DESCRIPTION:Im Rahmen der grenzübergreifenden Zusammenarbeit der TU Chemnitz mit mehreren tschechischen Universitäten werden die Ergebnisse von 12 Fachtagungen vorgestellt\, die in Form von Sammelbänden erschienen sind.\nverschiedene Referenten\nIlona Scherm\, Tel. 0371-531 34503
ORGANIZER:MAILTO:scherm@hrz.tu-chemnitz.de
UID:9132@www.tu-chemnitz.de
CREATED:20070925T151100Z
DTSTAMP:20210802T194706Z
END:VEVENT
END:VCALENDAR
